BEGIN:VCALENDAR
VERSION:2.0
PRODID:-//Oysterponds Historical Society - ECPv6.15.17.1//NONSGML v1.0//EN
CALSCALE:GREGORIAN
METHOD:PUBLISH
X-ORIGINAL-URL:https://oysterpondshistoricalsociety.org
X-WR-CALDESC:Events for Oysterponds Historical Society
REFRESH-INTERVAL;VALUE=DURATION:PT1H
X-Robots-Tag:noindex
X-PUBLISHED-TTL:PT1H
BEGIN:VTIMEZONE
TZID:America/New_York
BEGIN:DAYLIGHT
TZOFFSETFROM:-0500
TZOFFSETTO:-0400
TZNAME:EDT
DTSTART:20240310T070000
END:DAYLIGHT
BEGIN:STANDARD
TZOFFSETFROM:-0400
TZOFFSETTO:-0500
TZNAME:EST
DTSTART:20241103T060000
END:STANDARD
BEGIN:DAYLIGHT
TZOFFSETFROM:-0500
TZOFFSETTO:-0400
TZNAME:EDT
DTSTART:20250309T070000
END:DAYLIGHT
BEGIN:STANDARD
TZOFFSETFROM:-0400
TZOFFSETTO:-0500
TZNAME:EST
DTSTART:20251102T060000
END:STANDARD
BEGIN:DAYLIGHT
TZOFFSETFROM:-0500
TZOFFSETTO:-0400
TZNAME:EDT
DTSTART:20260308T070000
END:DAYLIGHT
BEGIN:STANDARD
TZOFFSETFROM:-0400
TZOFFSETTO:-0500
TZNAME:EST
DTSTART:20261101T060000
END:STANDARD
END:VTIMEZONE
BEGIN:VEVENT
DTSTART;TZID=America/New_York:20250906T130000
DTEND;TZID=America/New_York:20250906T160000
DTSTAMP:20260421T173529
CREATED:20250319T214110Z
LAST-MODIFIED:20250725T163541Z
UID:586-1757163600-1757174400@oysterpondshistoricalsociety.org
SUMMARY:5th Annual NY Mutuals vs Oysterponders Vintage Baseball Game
DESCRIPTION:Sept. 6th.  Root\, root\, root for the home team! For the fifth year in a row\, OHS will be hosting a vintage baseball game featuring a friendly-but-fierce competition between the powerful visiting NY Mutuals and a proud-but-ragtag team of Oysterponds irregulars. \n  \nThe New York Mutuals Baseball Club fields a team in authentic replica uniforms and plays an actual nine-inning game–following bygone-era rules–using replica old-time equipment. Following the game\, they’ll give the children in the audience a chance to play and swing a bat in a game called rounders. \n  \nInterested in playing? Click here to sign up!
URL:https://oysterpondshistoricalsociety.org/event/5th-annual-ny-mutuals-vs-oysterponders-vintage-baseball-game/
LOCATION:Oysterponds Elementary School\, 23405 Main Rd\, Orient\, NY\, 11957\, United States
CATEGORIES:Community Programs & Events
ATTACH;FMTTYPE=image/png:https://oysterpondshistoricalsociety.org/wp-content/uploads/2025/03/image-3.png
END:VEVENT
BEGIN:VEVENT
DTSTART;TZID=America/New_York:20250919T140000
DTEND;TZID=America/New_York:20251026T170000
DTSTAMP:20260421T173529
CREATED:20250825T132223Z
LAST-MODIFIED:20250930T182852Z
UID:1198-1758290400-1761498000@oysterpondshistoricalsociety.org
SUMMARY:Village House exhibitions remain open until October 26th
DESCRIPTION:Exhibitions in Village House will remain open on Saturdays and Sundays until Otober 26th. \nSaturdays: 2-5pm \nSundays: 2-5pm \n  \nPictured: Two portraits that are part of the “Recent Acquisitions” exhibition in Village House. The sisters portrayed are Elizabeth Brown Dyer Tuthill (1815-1870) and Laura Lavinia Dyer Holmes (1802-1883). They were painted in 1842 by W.G. Brown\, Jr.\, a young English artist\, shortly after he arrived in New York. \n  \nPlease note that staff may be available Monday thru Thursday to open the doors and give tours. If interested\, please call the office at 631-323-2480 for more information. \n  \nAdmission for non-Member Adults is $10\, which grants same-day access to all buildings. For OHS Members & Children\, admission to our buildings and exhibitions is free.
URL:https://oysterpondshistoricalsociety.org/event/exhibitions-remain-open-until-october-5th/
LOCATION:Oysterponds Historical Society\, 1555 Village Lane\, Orient\, NY\, 11957\, United States
CATEGORIES:Community Programs & Events
ATTACH;FMTTYPE=image/png:https://oysterpondshistoricalsociety.org/wp-content/uploads/2025/08/two-sisters_4-3_crop1.png
END:VEVENT
BEGIN:VEVENT
DTSTART;TZID=America/New_York:20250927T110000
DTEND;TZID=America/New_York:20250928T170000
DTSTAMP:20260421T173529
CREATED:20250319T214306Z
LAST-MODIFIED:20250924T192200Z
UID:589-1758970800-1759078800@oysterpondshistoricalsociety.org
SUMMARY:North Fork Art & Artists Exhibition & Sale
DESCRIPTION:Sept. 27th & 28th.  To fully acknowledge and celebrate all that artists contribute to our community\, for the fourth year in a row we are inviting local artists who have supported OHS to participate in an upcoming art show and sale at Oysterponds Historical Society\, North Fork Art & Artists Exhibition & Sale. \nThe East Marion and Orient communitieshave long been home to artists who have been inspired\, rejuvenated\, and motivated by the North Fork’s sky\, farmland\, and bays. \nThe exhibition will be held at the Old Point Schoolhouse (1555 Village Lane\, Orient) and 75% of the purchase price will go to the artist and 25% will represent a contribution to OHS. \nLooking forward to seeing you at the Schoolhouse! \n  \nSaturday\, September 27th\, 11am to 5pm \nSunday\, September 28th\, 11am to 5pm.
URL:https://oysterpondshistoricalsociety.org/event/north-fork-art-artists-exhibition-sale/
LOCATION:Old Point Schoolhouse\, 1555 Village Lane\, Orient\, NY\, 11957\, United States
CATEGORIES:Community Programs & Events
ATTACH;FMTTYPE=image/png:https://oysterpondshistoricalsociety.org/wp-content/uploads/2025/03/art-show_16-to-9-crop.png
END:VEVENT
END:VCALENDAR