BEGIN:VCALENDAR
VERSION:2.0
PRODID:-//Oysterponds Historical Society - ECPv6.15.17.1//NONSGML v1.0//EN
CALSCALE:GREGORIAN
METHOD:PUBLISH
X-ORIGINAL-URL:https://oysterpondshistoricalsociety.org
X-WR-CALDESC:Events for Oysterponds Historical Society
REFRESH-INTERVAL;VALUE=DURATION:PT1H
X-Robots-Tag:noindex
X-PUBLISHED-TTL:PT1H
BEGIN:VTIMEZONE
TZID:America/New_York
BEGIN:DAYLIGHT
TZOFFSETFROM:-0500
TZOFFSETTO:-0400
TZNAME:EDT
DTSTART:20240310T070000
END:DAYLIGHT
BEGIN:STANDARD
TZOFFSETFROM:-0400
TZOFFSETTO:-0500
TZNAME:EST
DTSTART:20241103T060000
END:STANDARD
BEGIN:DAYLIGHT
TZOFFSETFROM:-0500
TZOFFSETTO:-0400
TZNAME:EDT
DTSTART:20250309T070000
END:DAYLIGHT
BEGIN:STANDARD
TZOFFSETFROM:-0400
TZOFFSETTO:-0500
TZNAME:EST
DTSTART:20251102T060000
END:STANDARD
BEGIN:DAYLIGHT
TZOFFSETFROM:-0500
TZOFFSETTO:-0400
TZNAME:EDT
DTSTART:20260308T070000
END:DAYLIGHT
BEGIN:STANDARD
TZOFFSETFROM:-0400
TZOFFSETTO:-0500
TZNAME:EST
DTSTART:20261101T060000
END:STANDARD
END:VTIMEZONE
BEGIN:VEVENT
DTSTART;TZID=America/New_York:20250706T120000
DTEND;TZID=America/New_York:20250706T150000
DTSTAMP:20260421T141321
CREATED:20250319T212414Z
LAST-MODIFIED:20250618T135720Z
UID:574-1751803200-1751814000@oysterpondshistoricalsociety.org
SUMMARY:16th Annual Heritage Day
DESCRIPTION:July 6th.  The 16th annual Heritage Day program will start with a parade** down Orient’s Village Lane led by the Grand Marshal; followed by a welcome and invocation at the Old Point Schoolhouse; the recitation of the Pledge of Allegiance; “God Bless America” sung by Franklin Mastrangelo; the reading of the Declaration of Independence by Oysterponds stalwarts; after which hot dogs\, sweets\, and lots of fun kids’ games. \n** We invite kids to patriotically decorate their bikes and join the parade; they should assemble at 11:30am on Oysterponds Lane and await instructions. Prizes will be awarded!
URL:https://oysterpondshistoricalsociety.org/event/16th-annual-heritage-day/
LOCATION:Old Point Schoolhouse\, 1555 Village Lane\, Orient\, NY\, 11957\, United States
CATEGORIES:Community Programs & Events
ATTACH;FMTTYPE=image/jpeg:https://oysterpondshistoricalsociety.org/wp-content/uploads/2025/03/Heritage2_for_website-595-x-376.jpg
END:VEVENT
END:VCALENDAR