BEGIN:VCALENDAR
VERSION:2.0
PRODID:-//Oysterponds Historical Society - ECPv6.15.17.1//NONSGML v1.0//EN
CALSCALE:GREGORIAN
METHOD:PUBLISH
X-ORIGINAL-URL:https://oysterpondshistoricalsociety.org
X-WR-CALDESC:Events for Oysterponds Historical Society
REFRESH-INTERVAL;VALUE=DURATION:PT1H
X-Robots-Tag:noindex
X-PUBLISHED-TTL:PT1H
BEGIN:VTIMEZONE
TZID:America/New_York
BEGIN:DAYLIGHT
TZOFFSETFROM:-0500
TZOFFSETTO:-0400
TZNAME:EDT
DTSTART:20240310T070000
END:DAYLIGHT
BEGIN:STANDARD
TZOFFSETFROM:-0400
TZOFFSETTO:-0500
TZNAME:EST
DTSTART:20241103T060000
END:STANDARD
BEGIN:DAYLIGHT
TZOFFSETFROM:-0500
TZOFFSETTO:-0400
TZNAME:EDT
DTSTART:20250309T070000
END:DAYLIGHT
BEGIN:STANDARD
TZOFFSETFROM:-0400
TZOFFSETTO:-0500
TZNAME:EST
DTSTART:20251102T060000
END:STANDARD
BEGIN:DAYLIGHT
TZOFFSETFROM:-0500
TZOFFSETTO:-0400
TZNAME:EDT
DTSTART:20260308T070000
END:DAYLIGHT
BEGIN:STANDARD
TZOFFSETFROM:-0400
TZOFFSETTO:-0500
TZNAME:EST
DTSTART:20261101T060000
END:STANDARD
END:VTIMEZONE
BEGIN:VEVENT
DTSTART;TZID=America/New_York:20250813T180000
DTEND;TZID=America/New_York:20250813T193000
DTSTAMP:20260421T173839
CREATED:20250319T213744Z
LAST-MODIFIED:20250711T154158Z
UID:583-1755108000-1755113400@oysterpondshistoricalsociety.org
SUMMARY:Family Night: The Mudflats - FREE!
DESCRIPTION:Aug. 13th.  Oysterponds favorites\, The Mudflats (comprised of fiddles\, banjo\, mandolin\, guitar\, upright bass\, and drums)\, are a twin-fiddle fusion of traditional American music. The Mudflats’ original sound is guaranteed to touch the heart and get your feet a-tappin’! \n  \nBring a blanket or a lawn-chair\, bug spray\, a picnic\, and a bottle of your favorite beverage! \n  \nThe generosity of donors allows OHS to present free events throughout the calendar year. If you would like to make a donation\, please click here.
URL:https://oysterpondshistoricalsociety.org/event/family-night-the-mudflats-free/
LOCATION:Old Point School House Lawn\, 1555 Village Lane\, Orient\, NY\, 11957\, United States
CATEGORIES:Community Programs & Events,Family Events
ATTACH;FMTTYPE=image/png:https://oysterpondshistoricalsociety.org/wp-content/uploads/2025/03/mudflats_2021_1.png
END:VEVENT
END:VCALENDAR