BEGIN:VCALENDAR
VERSION:2.0
PRODID:-//Oysterponds Historical Society - ECPv6.15.17.1//NONSGML v1.0//EN
CALSCALE:GREGORIAN
METHOD:PUBLISH
X-ORIGINAL-URL:https://oysterpondshistoricalsociety.org
X-WR-CALDESC:Events for Oysterponds Historical Society
REFRESH-INTERVAL;VALUE=DURATION:PT1H
X-Robots-Tag:noindex
X-PUBLISHED-TTL:PT1H
BEGIN:VTIMEZONE
TZID:America/New_York
BEGIN:DAYLIGHT
TZOFFSETFROM:-0500
TZOFFSETTO:-0400
TZNAME:EDT
DTSTART:20240310T070000
END:DAYLIGHT
BEGIN:STANDARD
TZOFFSETFROM:-0400
TZOFFSETTO:-0500
TZNAME:EST
DTSTART:20241103T060000
END:STANDARD
BEGIN:DAYLIGHT
TZOFFSETFROM:-0500
TZOFFSETTO:-0400
TZNAME:EDT
DTSTART:20250309T070000
END:DAYLIGHT
BEGIN:STANDARD
TZOFFSETFROM:-0400
TZOFFSETTO:-0500
TZNAME:EST
DTSTART:20251102T060000
END:STANDARD
BEGIN:DAYLIGHT
TZOFFSETFROM:-0500
TZOFFSETTO:-0400
TZNAME:EDT
DTSTART:20260308T070000
END:DAYLIGHT
BEGIN:STANDARD
TZOFFSETFROM:-0400
TZOFFSETTO:-0500
TZNAME:EST
DTSTART:20261101T060000
END:STANDARD
END:VTIMEZONE
BEGIN:VEVENT
DTSTART;TZID=America/New_York:20250823T100000
DTEND;TZID=America/New_York:20250823T160000
DTSTAMP:20260421T173713
CREATED:20250721T180111Z
LAST-MODIFIED:20250819T202700Z
UID:1051-1755943200-1755964800@oysterpondshistoricalsociety.org
SUMMARY:3rd NY Regiment Revolutionary War Re-enactment
DESCRIPTION:August 23rd. The 3rd NY Regiment recreates events that happened during the War of American Independence\, specifically 1775 through 1783. The Regiment reproduces the daily routine of Revolutionary War soldiers\, wives\, families and camp followers. They dress in period clothing and drill with reproduction firelocks just as in 1775. \n  \nActivities will include: \n\nMeet & Greet the Public\nCamp Activities\nDrill\n18th Century Cooking\nCanon Demonstration\nTactical Weapons Demonstration\nPeople of the 18th Century\nNooning\nCamp Breakdown\n\n\nEvent Parking will be available at the Methodist Church (1395 Village Ln – enter on Orchard St).
URL:https://oysterpondshistoricalsociety.org/event/3rd-ny-regiment-revolutionary-war-re-enactment/
LOCATION:Poquatuck Park\, Village Lane\, Orient\, NY\, 11957\, United States
CATEGORIES:Community Programs & Events
ATTACH;FMTTYPE=image/png:https://oysterpondshistoricalsociety.org/wp-content/uploads/2025/07/3rd_regiment.png
END:VEVENT
END:VCALENDAR