BEGIN:VCALENDAR
VERSION:2.0
PRODID:-//Oysterponds Historical Society - ECPv6.15.17.1//NONSGML v1.0//EN
CALSCALE:GREGORIAN
METHOD:PUBLISH
X-WR-CALNAME:Oysterponds Historical Society
X-ORIGINAL-URL:https://oysterpondshistoricalsociety.org
X-WR-CALDESC:Events for Oysterponds Historical Society
REFRESH-INTERVAL;VALUE=DURATION:PT1H
X-Robots-Tag:noindex
X-PUBLISHED-TTL:PT1H
BEGIN:VTIMEZONE
TZID:America/New_York
BEGIN:DAYLIGHT
TZOFFSETFROM:-0500
TZOFFSETTO:-0400
TZNAME:EDT
DTSTART:20240310T070000
END:DAYLIGHT
BEGIN:STANDARD
TZOFFSETFROM:-0400
TZOFFSETTO:-0500
TZNAME:EST
DTSTART:20241103T060000
END:STANDARD
BEGIN:DAYLIGHT
TZOFFSETFROM:-0500
TZOFFSETTO:-0400
TZNAME:EDT
DTSTART:20250309T070000
END:DAYLIGHT
BEGIN:STANDARD
TZOFFSETFROM:-0400
TZOFFSETTO:-0500
TZNAME:EST
DTSTART:20251102T060000
END:STANDARD
BEGIN:DAYLIGHT
TZOFFSETFROM:-0500
TZOFFSETTO:-0400
TZNAME:EDT
DTSTART:20260308T070000
END:DAYLIGHT
BEGIN:STANDARD
TZOFFSETFROM:-0400
TZOFFSETTO:-0500
TZNAME:EST
DTSTART:20261101T060000
END:STANDARD
END:VTIMEZONE
BEGIN:VEVENT
DTSTART;TZID=America/New_York:20251122T150000
DTEND;TZID=America/New_York:20251122T170000
DTSTAMP:20260421T202718
CREATED:20251022T180255Z
LAST-MODIFIED:20251022T183036Z
UID:1643-1763823600-1763830800@oysterpondshistoricalsociety.org
SUMMARY:Book Event for former Congressman Steve Israel's "The Einstein Conspiracy"
DESCRIPTION:Nov. 22nd.  Join former Congressman Steve Israel for the launch of his new novel\, The Einstein Conspiracy. \nBased on actual events\, The Einstein Conspiracy follows two FBI agents racing to stop a Nazi plot to abduct Albert Einstein\, whom Hitler believes holds the key to the atomic bomb. This gripping historical thriller takes place right here on the North Fork\, where Einstein lived in 1939\, and immerses readers in a shadowy America where Nazism festers close to home and appearances can prove deadly. \nThe conversation will be moderated by Darren St. George\, the Executive Director of the Southold Historical Museum and Amy Folk\, Archivist and Curator for the Southold Historical Society and Oysterponds Historical Society Collections Manager. \nCopies of The Einstein Conspiracy will be available for purchase at the event courtesy of Burton’s Books. \n  \nThis event is free and open to the public. Registration is required here. \n  \nSaturday\, November 22 @ 3:00 pm \nKick off the event early with us at 2:30 PM for a free author reception that includes hors d’oeuvres and light refreshments\, and a meet & greet with Congressman Israel. \nFloyd Memorial Library\, 539 1st St\, Greenport\, NY \n  \nThis event is made possible thanks to a dedicated (and entirely bipartisan) Host Committee: Southold Historical Society; Oysterponds Historical Society; Hon. Edward Romaine; Hon. Al Krupski; Hon. Kevin Steusi; Hon. Steve Bellone; Rob Calarco; Dave Calone; Nasrallah and Marilyn Misk; Ron Rothman;  Alison Ventura; and Kathryn Casey Quigley.
URL:https://oysterpondshistoricalsociety.org/event/join-former-congressman-steve-israel-for-the-launch-of-his-new-novel-the-einstein-conspiracy/
LOCATION:Floyd Memorial Library\, 539 1st Street\, Greenport\, NY\, 11944\, United States
CATEGORIES:Community Programs & Events
ATTACH;FMTTYPE=image/png:https://oysterpondshistoricalsociety.org/wp-content/uploads/2025/10/einstein.png
END:VEVENT
END:VCALENDAR