BEGIN:VCALENDAR
VERSION:2.0
PRODID:-//Oysterponds Historical Society - ECPv6.15.17.1//NONSGML v1.0//EN
CALSCALE:GREGORIAN
METHOD:PUBLISH
X-ORIGINAL-URL:https://oysterpondshistoricalsociety.org
X-WR-CALDESC:Events for Oysterponds Historical Society
REFRESH-INTERVAL;VALUE=DURATION:PT1H
X-Robots-Tag:noindex
X-PUBLISHED-TTL:PT1H
BEGIN:VTIMEZONE
TZID:America/New_York
BEGIN:DAYLIGHT
TZOFFSETFROM:-0500
TZOFFSETTO:-0400
TZNAME:EDT
DTSTART:20240310T070000
END:DAYLIGHT
BEGIN:STANDARD
TZOFFSETFROM:-0400
TZOFFSETTO:-0500
TZNAME:EST
DTSTART:20241103T060000
END:STANDARD
BEGIN:DAYLIGHT
TZOFFSETFROM:-0500
TZOFFSETTO:-0400
TZNAME:EDT
DTSTART:20250309T070000
END:DAYLIGHT
BEGIN:STANDARD
TZOFFSETFROM:-0400
TZOFFSETTO:-0500
TZNAME:EST
DTSTART:20251102T060000
END:STANDARD
BEGIN:DAYLIGHT
TZOFFSETFROM:-0500
TZOFFSETTO:-0400
TZNAME:EDT
DTSTART:20260308T070000
END:DAYLIGHT
BEGIN:STANDARD
TZOFFSETFROM:-0400
TZOFFSETTO:-0500
TZNAME:EST
DTSTART:20261101T060000
END:STANDARD
END:VTIMEZONE
BEGIN:VEVENT
DTSTART;TZID=America/New_York:20251129T120000
DTEND;TZID=America/New_York:20251220T170000
DTSTAMP:20260421T184837
CREATED:20250825T163426Z
LAST-MODIFIED:20251208T173311Z
UID:1209-1764417600-1766250000@oysterpondshistoricalsociety.org
SUMMARY:Beach Plum Holiday Shop
DESCRIPTION:Many new items in stock this year\, including classic ornaments\, festive holiday decorations\, North Fork art\, and unique\, traditional crafts\, as well as one-of-a-kind gifts for the entire family. There’s something for everyone! \nProceeds directly support the mission of Oysterponds Historical Society to bring people together to share and celebrate the unique history and culture of the North Fork hamlets of Orient and East Marion. \nHours of operation: \nFri. Dec. 12th – 10am to 2pm \nSat. Dec.\, 13th – 12 noon to 4pm \nSun. Dec. 14th – 12 noon to 4pm \nThu. Dec. 18th – 10am to 2pm \nFri. Dec. 19th – 10am to 2pm \nSat. Dec. 20th – 2 to 4pm \n 
URL:https://oysterpondshistoricalsociety.org/event/beach-plum-holiday-shop/
LOCATION:Old Point Schoolhouse\, 1555 Village Lane\, Orient\, NY\, 11957\, United States
CATEGORIES:Community Programs & Events
ATTACH;FMTTYPE=image/png:https://oysterpondshistoricalsociety.org/wp-content/uploads/2025/08/beach_plus_2021_centered_web_16-9.png
END:VEVENT
BEGIN:VEVENT
DTSTART;TZID=America/New_York:20251213T150000
DTEND;TZID=America/New_York:20251213T170000
DTSTAMP:20260421T184837
CREATED:20250825T162646Z
LAST-MODIFIED:20251124T175948Z
UID:1205-1765638000-1765645200@oysterpondshistoricalsociety.org
SUMMARY:OHS Holiday Social
DESCRIPTION:Dec. 13th.  Join friends\, family\, and neighbors at Village House for festive food and drink\, caroling & crafting\, and shopping at the Beach Plum Holiday Shop! \n  \nPlease note: This event replaces the previously-scheduled “Holiday Celebration” that was originally slotted for December 6th.
URL:https://oysterpondshistoricalsociety.org/event/holiday-celebration/
LOCATION:Village House Patio\, 1555 Village Lane\, Orient\, 11957\, United States
CATEGORIES:Community Programs & Events
ATTACH;FMTTYPE=image/png:https://oysterpondshistoricalsociety.org/wp-content/uploads/2025/08/Holiday-Social-Email-scaled.png
END:VEVENT
END:VCALENDAR