BEGIN:VCALENDAR
VERSION:2.0
PRODID:-//Oysterponds Historical Society - ECPv6.15.17.1//NONSGML v1.0//EN
CALSCALE:GREGORIAN
METHOD:PUBLISH
X-WR-CALNAME:Oysterponds Historical Society
X-ORIGINAL-URL:https://oysterpondshistoricalsociety.org
X-WR-CALDESC:Events for Oysterponds Historical Society
REFRESH-INTERVAL;VALUE=DURATION:PT1H
X-Robots-Tag:noindex
X-PUBLISHED-TTL:PT1H
BEGIN:VTIMEZONE
TZID:America/New_York
BEGIN:DAYLIGHT
TZOFFSETFROM:-0500
TZOFFSETTO:-0400
TZNAME:EDT
DTSTART:20250309T070000
END:DAYLIGHT
BEGIN:STANDARD
TZOFFSETFROM:-0400
TZOFFSETTO:-0500
TZNAME:EST
DTSTART:20251102T060000
END:STANDARD
BEGIN:DAYLIGHT
TZOFFSETFROM:-0500
TZOFFSETTO:-0400
TZNAME:EDT
DTSTART:20260308T070000
END:DAYLIGHT
BEGIN:STANDARD
TZOFFSETFROM:-0400
TZOFFSETTO:-0500
TZNAME:EST
DTSTART:20261101T060000
END:STANDARD
BEGIN:DAYLIGHT
TZOFFSETFROM:-0500
TZOFFSETTO:-0400
TZNAME:EDT
DTSTART:20270314T070000
END:DAYLIGHT
BEGIN:STANDARD
TZOFFSETFROM:-0400
TZOFFSETTO:-0500
TZNAME:EST
DTSTART:20271107T060000
END:STANDARD
END:VTIMEZONE
BEGIN:VEVENT
DTSTART;TZID=America/New_York:20260221T110000
DTEND;TZID=America/New_York:20260221T123000
DTSTAMP:20260421T154125
CREATED:20260210T195938Z
LAST-MODIFIED:20260217T182057Z
UID:1927-1771671600-1771677000@oysterpondshistoricalsociety.org
SUMMARY:Free Talk: “Hard Water Sailing: A History of Iceboating"
DESCRIPTION:On Saturday\, February 21st at 11am\, John Holzapfel will host a talk entitled\, “Hard Water Sailing: A History of Iceboating\,” presenting a short history of iceboating\, the concept of ice-sailing\, and the local history of iceboating on Hallock’s Bay\, with special attention paid to a striking 19th century iceboat named Red Bird\, given to OHS by the late Long Island iceboating authority Bob Reeves. \n  \nAdmission is FREE and on a first-come\, first-served basis. Donations are greatly appreciated and allow OHS to present free events throughout the calendar year
URL:https://oysterpondshistoricalsociety.org/event/free-talk-hard-water-sailing-a-history-of-iceboating/
LOCATION:Old Point Schoolhouse\, 1555 Village Lane\, Orient\, NY\, 11957\, United States
CATEGORIES:Community Programs & Events
ATTACH;FMTTYPE=image/png:https://oysterpondshistoricalsociety.org/wp-content/uploads/2026/02/2-iceboats_16-9-1.png
END:VEVENT
END:VCALENDAR