BEGIN:VCALENDAR
VERSION:2.0
PRODID:-//Oysterponds Historical Society - ECPv6.15.17.1//NONSGML v1.0//EN
CALSCALE:GREGORIAN
METHOD:PUBLISH
X-ORIGINAL-URL:https://oysterpondshistoricalsociety.org
X-WR-CALDESC:Events for Oysterponds Historical Society
REFRESH-INTERVAL;VALUE=DURATION:PT1H
X-Robots-Tag:noindex
X-PUBLISHED-TTL:PT1H
BEGIN:VTIMEZONE
TZID:America/New_York
BEGIN:DAYLIGHT
TZOFFSETFROM:-0500
TZOFFSETTO:-0400
TZNAME:EDT
DTSTART:20250309T070000
END:DAYLIGHT
BEGIN:STANDARD
TZOFFSETFROM:-0400
TZOFFSETTO:-0500
TZNAME:EST
DTSTART:20251102T060000
END:STANDARD
BEGIN:DAYLIGHT
TZOFFSETFROM:-0500
TZOFFSETTO:-0400
TZNAME:EDT
DTSTART:20260308T070000
END:DAYLIGHT
BEGIN:STANDARD
TZOFFSETFROM:-0400
TZOFFSETTO:-0500
TZNAME:EST
DTSTART:20261101T060000
END:STANDARD
BEGIN:DAYLIGHT
TZOFFSETFROM:-0500
TZOFFSETTO:-0400
TZNAME:EDT
DTSTART:20270314T070000
END:DAYLIGHT
BEGIN:STANDARD
TZOFFSETFROM:-0400
TZOFFSETTO:-0500
TZNAME:EST
DTSTART:20271107T060000
END:STANDARD
END:VTIMEZONE
BEGIN:VEVENT
DTSTART;TZID=America/New_York:20260523T110000
DTEND;TZID=America/New_York:20260928T170000
DTSTAMP:20260421T154424
CREATED:20260209T222110Z
LAST-MODIFIED:20260415T185355Z
UID:1915-1779534000-1790614800@oysterpondshistoricalsociety.org
SUMMARY:New Village House Exhibitions
DESCRIPTION:Brand-new exhibitions in Village House will open on Saturday\, May 23rd – Memorial Day weekend. \n  \nHours: \nFridays\, 2pm to 5pm \nSaturdays\, 11am to 5pm \nSundays\, 2pm to 5pm \n  \nLOST OYSTERPONDS\nA collections of photographs depicting buildings that were once an integral part of the built environment of East Marion and Orient. Some structures were purposely torn down\, others lost to fire or hurricanes\, others simply moved to other places\, like the Orient Mill\, a beloved structure that was sold and moved by barge to an amusement park where it burned to the ground a dozen years later. \nCURLICUE WICKER FROM THE COLLECTION\nOHS is fortunate to have two pieces from the two most important wicker furniture manufacturers in America: a rocking chair made by The Wakefield Rattan Company\, and a baby carriage made by Heywood Brothers & Co. Several other pieces have no maker’s labels\, but they might have been made locally\, as the Greenport Rattan Company was flourishing at that period. \nCHILDREN’S VEHICLES\nThis exhibition is devoted to large toys: vehicles that children could ride in or on that could be self-propelled or pulled or pushed. An early tricycle and a painted sled are familiar to all\, but a goat cart and an Irish Mail less so. The goat cart was meant to pulled by the child’s pet goat\, or dog\, or pony – or perhaps a sibling. \nRECENT ACQUISITIONS\nThe past few years have been exceptional for the quality of the objects being donated to OHS. This year’s significant additions include three issues\, dating from 1812 and 1813\, of the Long-Island Star; our first 21st century Oysterponds quilt; a bust of Lincoln by Robert Berks\, and much more. \nABRAHAM G. D. TUTHILL\nThis exhibition celebrates the acquisition of two portraits painted by Abraham G.D. Tuthill\, the only 18th-century artist born in Oysterponds. OHS already owns two of his portraits. The handsome new portraits\, of an unidentified man and woman (undoubtedly husband and wife)\, date from the later part of his career. \nROBERT BERKS: THE MARY McLEOD BETHUNE MEMORIAL\nOrient denizen and nationally-known sculptor Robert Berks (1922-2011) specialized in creating large-scale\, monumental sculptures of major figures in American history. His creation of a memorial to Bethune\, the world-renowned educator\, civil rights leader\, women’s rights activist and presidential advisor\, was one of his more important commissions. \n  \nAdmission for OHS Members is free; admission charge is $10 per Non-member Adult. \n  \nStaff may be available Monday thru Friday to open the doors and give tours. If interested\, please call the office at 631-323-2480 for more information.
URL:https://oysterpondshistoricalsociety.org/event/new-village-house-exhibitions/
LOCATION:Village House\, 1555 Village Lane\, Orient\, NY\, 11957\, United States
CATEGORIES:Community Programs & Events
ATTACH;FMTTYPE=image/jpeg:https://oysterpondshistoricalsociety.org/wp-content/uploads/2026/02/IMG_1961_16-9-scaled.jpg
END:VEVENT
BEGIN:VEVENT
DTSTART;TZID=America/New_York:20260705T120000
DTEND;TZID=America/New_York:20260705T150000
DTSTAMP:20260421T154424
CREATED:20260209T160136Z
LAST-MODIFIED:20260415T185511Z
UID:1892-1783252800-1783263600@oysterpondshistoricalsociety.org
SUMMARY:Heritage Day: Celebrating America's 250th Birthday
DESCRIPTION:July 5th. The Heritage Day program will start with a parade down Orient’s Village Lane led by the Grand Marshal; followed by a welcome and invocation at the Old Point Schoolhouse; the recitation of the Pledge of Allegiance; “God Bless America” sung by Franklin Mastrangelo; the reading of the Declaration of Independence by Oysterponds stalwarts; after which there’ll be hot dogs\, sweets\, kids’ games\, and live music in Poquatuck Park. \n  \nSarah Olmstead & Catherine Craig-Chaudhuri\, Co-Chairs \n  \nThe history of Heritage Day: Local schoolmaster\, tavern keeper\, store owner\, diarist\, and Oysterponds native-son Augustus Griffin (1767-1866) began a tradition of the reading of the Declaration of Independence every July 4th. Many years later\, that simple ceremony has grown into Heritage Day—an annual opportunity to fully acknowledge the innumerable generations of Oysterponders who came before us—starting with those who first settled the East End over 10\,000 years ago. \n  \nOysterponds Historical Society celebrates all of Oysterponds history—the people and the lives they lived and the artifacts and stories that have been handed down to us in the 21st century.
URL:https://oysterpondshistoricalsociety.org/event/heritage-day/
LOCATION:Old Point School House Lawn\, 1555 Village Lane\, Orient\, NY\, 11957\, United States
CATEGORIES:Community Programs & Events
ATTACH;FMTTYPE=image/jpeg:https://oysterpondshistoricalsociety.org/wp-content/uploads/2025/03/Heritage2_for_website-595-x-376.jpg
END:VEVENT
END:VCALENDAR