BEGIN:VCALENDAR
VERSION:2.0
PRODID:-//Oysterponds Historical Society - ECPv6.15.17.1//NONSGML v1.0//EN
CALSCALE:GREGORIAN
METHOD:PUBLISH
X-WR-CALNAME:Oysterponds Historical Society
X-ORIGINAL-URL:https://oysterpondshistoricalsociety.org
X-WR-CALDESC:Events for Oysterponds Historical Society
REFRESH-INTERVAL;VALUE=DURATION:PT1H
X-Robots-Tag:noindex
X-PUBLISHED-TTL:PT1H
BEGIN:VTIMEZONE
TZID:America/New_York
BEGIN:DAYLIGHT
TZOFFSETFROM:-0500
TZOFFSETTO:-0400
TZNAME:EDT
DTSTART:20250309T070000
END:DAYLIGHT
BEGIN:STANDARD
TZOFFSETFROM:-0400
TZOFFSETTO:-0500
TZNAME:EST
DTSTART:20251102T060000
END:STANDARD
BEGIN:DAYLIGHT
TZOFFSETFROM:-0500
TZOFFSETTO:-0400
TZNAME:EDT
DTSTART:20260308T070000
END:DAYLIGHT
BEGIN:STANDARD
TZOFFSETFROM:-0400
TZOFFSETTO:-0500
TZNAME:EST
DTSTART:20261101T060000
END:STANDARD
BEGIN:DAYLIGHT
TZOFFSETFROM:-0500
TZOFFSETTO:-0400
TZNAME:EDT
DTSTART:20270314T070000
END:DAYLIGHT
BEGIN:STANDARD
TZOFFSETFROM:-0400
TZOFFSETTO:-0500
TZNAME:EST
DTSTART:20271107T060000
END:STANDARD
END:VTIMEZONE
BEGIN:VEVENT
DTSTART;TZID=America/New_York:20260819T180000
DTEND;TZID=America/New_York:20260819T193000
DTSTAMP:20260421T191040
CREATED:20260327T155358Z
LAST-MODIFIED:20260421T194937Z
UID:2053-1787162400-1787167800@oysterpondshistoricalsociety.org
SUMMARY:Family Night: The Magic of Amore - FREE!
DESCRIPTION:June 13th.  A centerpiece of OHS's year-long commemoration of the 250th anniversary of the nation's birth will be a presentation of a historically-accurate Revolutionary War encampment in Poquatuck Park by the New York 3rd Regiment. The event will be open to the public\, family-friendly\, educational\, and free.Additional components of the event will include a duo of musicians performing 18th-century songs on period instruments; a planned visit from the Revolutionary War boat from Port Washington (pending confirmation); sheep shearing demonstration to show how wool became clothing for soldiers and civilians; quill writing station where children and adults can try writing as it was done in the 18th century. felt boat-making activity for children\, connecting craft\, maritime history\, and learning through hands-on engagement.This program emphasizes daily life of Revolutionary War soldiers and civilians; the importance of Long Island Sound and maritime movement during the war; the specific role of Oysterponds and the North Fork in early Revolutionary War activity; traditional trades and skills that were essential in the 18th century.Event Parking will be available at the Methodist Church (1395 Village Ln - enter on Orchard St).
URL:https://oysterpondshistoricalsociety.org/event/the-magic-of-amore/
LOCATION:Old Point School House Lawn\, 1555 Village Lane\, Orient\, NY\, 11957\, United States
CATEGORIES:Community Programs & Events
ATTACH;FMTTYPE=image/png:https://oysterpondshistoricalsociety.org/wp-content/uploads/2026/03/amore-2024_7_16-9.png
END:VEVENT
BEGIN:VEVENT
DTSTART;TZID=America/New_York:20260912T130000
DTEND;TZID=America/New_York:20260912T160000
DTSTAMP:20260421T191040
CREATED:20260330T160452Z
LAST-MODIFIED:20260421T195017Z
UID:2068-1789218000-1789228800@oysterpondshistoricalsociety.org
SUMMARY:6th Annual NY Mutuals vs Oysterponders Vintage Baseball Game
DESCRIPTION:June 13th.  A centerpiece of OHS's year-long commemoration of the 250th anniversary of the nation's birth will be a presentation of a historically-accurate Revolutionary War encampment in Poquatuck Park by the New York 3rd Regiment. The event will be open to the public\, family-friendly\, educational\, and free.Additional components of the event will include a duo of musicians performing 18th-century songs on period instruments; a planned visit from the Revolutionary War boat from Port Washington (pending confirmation); sheep shearing demonstration to show how wool became clothing for soldiers and civilians; quill writing station where children and adults can try writing as it was done in the 18th century. felt boat-making activity for children\, connecting craft\, maritime history\, and learning through hands-on engagement.This program emphasizes daily life of Revolutionary War soldiers and civilians; the importance of Long Island Sound and maritime movement during the war; the specific role of Oysterponds and the North Fork in early Revolutionary War activity; traditional trades and skills that were essential in the 18th century.Event Parking will be available at the Methodist Church (1395 Village Ln - enter on Orchard St).
URL:https://oysterpondshistoricalsociety.org/event/6th-annual-ny-mutuals-vs-oysterponders-vintage-baseball-game/
LOCATION:Oysterponds Elementary School\, 23405 Main Rd\, Orient\, NY\, 11957\, United States
CATEGORIES:Community Programs & Events
ATTACH;FMTTYPE=image/png:https://oysterpondshistoricalsociety.org/wp-content/uploads/2026/03/IMG-1142_16-9.png
END:VEVENT
END:VCALENDAR